BEGIN:VCALENDAR
VERSION:2.0
PRODID:grueneniederhausen.rheingau-taunus-organisationen.de
METHOD:PUBLISH
BEGIN:VTIMEZONE
TZID:Europe/Berlin
X-LIC-LOCATION:Europe/Berlin
BEGIN:DAYLIGHT
TZOFFSETFROM:+0100
TZOFFSETTO:+0200
TZNAME:CEST
DTSTART:19700329T020000
RRULE:FREQ=YEARLY;INTERVAL=1;BYDAY=-1SU;BYMONTH=3
END:DAYLIGHT
BEGIN:STANDARD
TZOFFSETFROM:+0200
TZOFFSETTO:+0100
TZNAME:CET
DTSTART:19701025T030000
RRULE:FREQ=YEARLY;INTERVAL=1;BYDAY=-1SU;BYMONTH=10
END:STANDARD
END:VTIMEZONE
BEGIN:VEVENT
UID:2a5cfac9fd95827174752e823eecc078@grueneniederhausen.rheingau-taunus-organisationen.de
URL;VALUE=URI:https://grueneniederhausen.rheingau-taunus-organisationen.d
 e/termine/gemeindevertretung-2026-04-29/
LOCATION:Autlahalle Niedernhausen, Idsteiner Str. 59, 65527 Niedernhausen
SUMMARY:Konstituierende Sitzung der Gemeindevertretung Niedernhausen
DESCRIPTION;ALTREP="data:text/html,%0A%3Cp%3E%F0%9F%93%85%26nbsp%3B%3Cstr
 ong%3E29.%20April%202026%3C%2Fstrong%3E%3Cbr%3E%F0%9F%95%96%26nbsp%3B%3Cs
 trong%3E19%3A30%20Uhr%3C%2Fstrong%3E%3Cbr%3E%F0%9F%93%8D%26nbsp%3B%3Cstro
 ng%3EAutalhalle%20Niedernhausen%3C%2Fstrong%3E%3C%2Fp%3E%0A%0A%0A%0A%3Cp%
 3E%3Cstrong%3EKonstituierende%20Sitzung%20der%20Gemeindevertretung%20Nied
 ernhausen%3C%2Fstrong%3E%3C%2Fp%3E%0A%0A%0A%0A%3Cp%3EDie%20neu%20gew%C3%A
 4hlte%20Gemeindevertretung%20Niedernhausen%20tritt%20zu%20ihrer%20konstit
 uierenden%20Sitzung%20zusammen.%20In%20dieser%20ersten%20Sitzung%20der%20
 Wahlperiode%202026%E2%80%932031%20werden%20die%20Vorsitzenden%20der%20Gem
 eindevertretung%2C%20die%20Mitglieder%20des%20Gemeindevorstands%20sowie%2
 0die%20Aussch%C3%BCsse%20gew%C3%A4hlt%20und%20besetzt.%3C%2Fp%3E%0A%0A%0A
 %0A%3Cp%3EDie%20Sitzung%20ist%20%C3%B6ffentlich%20%E2%80%93%20alle%20inte
 ressierten%20B%C3%BCrgerinnen%20und%20B%C3%BCrger%20sind%20herzlich%20ein
 geladen%21%3C%2Fp%3E%0A%0A%0A%0A%3Cp%3E%E2%96%B6%EF%B8%8F%C2%A0%3Cstrong%
 3EWer%20nicht%20vor%20Ort%20dabei%20sein%20kann%2C%20kann%20die%20Sitzung
 %20auch%20live%20im%20Stream%20verfolgen%3C%2Fstrong%3E%3C%2Fp%3E%0A%0A%0
 A%0A%3Cp%3EDen%20aktuellen%20Link%20gibt%20es%20immer%20auf%20der%20Seite
 %20der%20Gemeinde%3A%3Cbr%3E%3Ca%20href%3D%22https%3A%2F%2Fwww.niedernhau
 sen.de%2Fverwaltung-politik%2Fpolitik%2F%22%20target%3D%22_blank%22%20rel
 %3D%22noreferrer%20noopener%22%3Ehttps%3A%2F%2Fwww.niedernhausen.de%2Fver
 waltung-politik%2Fpolitik%2F%3C%2Fa%3E%3C%2Fp%3E%0A%0A%0A%0A%3Cp%3E%3C%2F
 p%3E%0A":📅 29. April 2026🕖 19:30 Uhr📍 Autalhalle Niedernhause
 n\n\nKonstituierende Sitzung der Gemeindevertretung Niedernhausen\n\nDie 
 neu gewählte Gemeindevertretung Niedernhausen tritt zu ihrer konstituier
 enden Sitzung zusammen. In dieser ersten Sitzung der Wahlperiode 2026–2
 031 werden die Vorsitzenden der Gemeindevertretung\, die Mitglieder des G
 emeindevorstands sowie die Ausschüsse gewählt und besetzt.\n\nDie Sitzu
 ng ist öffentlich – alle interessierten Bürgerinnen und Bürger sind 
 herzlich eingeladen!\n\n▶️ Wer nicht vor Ort dabei sein kann\, kann 
 die Sitzung auch live im Stream verfolgen\n\nDen aktuellen Link gibt es i
 mmer auf der Seite der Gemeinde:https://www.niedernhausen.de/verwaltung-p
 olitik/politik/
CLASS:PUBLIC
DTSTART;TZID=Europe/Berlin:20260429T193000
DTEND;TZID=Europe/Berlin:20260429T220000
DTSTAMP:20260424T133408
END:VEVENT
END:VCALENDAR